BEGIN:VCALENDAR
VERSION:2.0
PRODID:Festa Santa Maria de Panóias - 2025
X-WR-CALNAME:Festa Santa Maria de Panóias - 2025
X-WR-TIMEZONE:Europe/Lisbon
X-PUBLISHED-TTL:P1W
BEGIN:VTIMEZONE
TZID:Europe/Lisbon
X-LIC-LOCATION:Europe/Lisbon
END:VTIMEZONE
BEGIN:VEVENT
UID:69e74a58d06a3
DTSTART;VALUE=DATE:20250813
SEQUENCE:0
TRANSP:OPAQUE
DTEND;VALUE=DATE:20250814
SUMMARY:Festa Santa Maria de Panóias - 2025
CLASS:PUBLIC
DESCRIPTION:Festa em honra da Padroeira Santa Maria de Panóias. De 13 a 16
  de Agosto
X-MICROSOFT-CDO-ALLDAYEVENT:TRUE
DTSTAMP:20260421T095848Z
END:VEVENT
END:VCALENDAR